BEGIN:VCALENDAR
VERSION:2.0
PRODID:-//Røde Kors Haugland Rehabiliteringssenter - ECPv6.15.20//NONSGML v1.0//EN
CALSCALE:GREGORIAN
METHOD:PUBLISH
X-WR-CALNAME:Røde Kors Haugland Rehabiliteringssenter
X-ORIGINAL-URL:https://www.rkhr.no
X-WR-CALDESC:Arrangement for Røde Kors Haugland Rehabiliteringssenter
REFRESH-INTERVAL;VALUE=DURATION:PT1H
X-Robots-Tag:noindex
X-PUBLISHED-TTL:PT1H
BEGIN:VTIMEZONE
TZID:Europe/Oslo
BEGIN:DAYLIGHT
TZOFFSETFROM:+0100
TZOFFSETTO:+0200
TZNAME:CEST
DTSTART:20250330T010000
END:DAYLIGHT
BEGIN:STANDARD
TZOFFSETFROM:+0200
TZOFFSETTO:+0100
TZNAME:CET
DTSTART:20251026T010000
END:STANDARD
BEGIN:DAYLIGHT
TZOFFSETFROM:+0100
TZOFFSETTO:+0200
TZNAME:CEST
DTSTART:20260329T010000
END:DAYLIGHT
BEGIN:STANDARD
TZOFFSETFROM:+0200
TZOFFSETTO:+0100
TZNAME:CET
DTSTART:20261025T010000
END:STANDARD
BEGIN:DAYLIGHT
TZOFFSETFROM:+0100
TZOFFSETTO:+0200
TZNAME:CEST
DTSTART:20270328T010000
END:DAYLIGHT
BEGIN:STANDARD
TZOFFSETFROM:+0200
TZOFFSETTO:+0100
TZNAME:CET
DTSTART:20271031T010000
END:STANDARD
END:VTIMEZONE
BEGIN:VEVENT
DTSTART;TZID=Europe/Oslo:20260729T000000
DTEND;TZID=Europe/Oslo:20260819T235959
DTSTAMP:20260420T143858
CREATED:20250922T082257Z
LAST-MODIFIED:20251016T210540Z
UID:10000208-1785283200-1787183999@www.rkhr.no
SUMMARY:Multippel sklerose-gruppe
DESCRIPTION:Vi tilbyr gruppeopphald for personar med multippel sklerose (MS)\, som har behov for å opprettehalde eller betre funksjonsnivået sitt. \nMåla med opphaldet er å: \n\nlære meistringsstrategiar for å dosere aktivitet og sosial deltaking\, og/eller arbeidsdeltaking\ngje deg positive opplevingar knytt til det å bruke eigen kropp aktivt\nstarte ein prosess som skal kunne vidareførast ved heimkomst\n\nHer er tilrettelagte fasilitetar med to basseng og treningssalar\, treningsfasilitetar ute og fine turløyper. \nDu får fagleg oppfølging i tilpassa fysisk aktivitet og innføring i kognitiv terapi\, som er eit nyttig verktøy for å handsame utfordringar. \nI gruppa møter du andre med liknande erfaringar\, noko som er viktig for mange.
URL:https://www.rkhr.no/opphold/multippel-sklerose-gruppe-16/
LOCATION:Røde Kors Haugland Rehabiliteringssenter\, Hauglandsvegen 308\, Flekke\, 6968
CATEGORIES:Multippel sclerose
ATTACH;FMTTYPE=image/jpeg:https://www.rkhr.no/wp-content/uploads/2024/08/Heli_Haugland-oversikt_4-klipp-lys.webp
END:VEVENT
BEGIN:VEVENT
DTSTART;TZID=Europe/Oslo:20260805T000000
DTEND;TZID=Europe/Oslo:20260826T235959
DTSTAMP:20260420T143858
CREATED:20250922T082257Z
LAST-MODIFIED:20251017T065743Z
UID:10000185-1785888000-1787788799@www.rkhr.no
SUMMARY:Tinnitus
DESCRIPTION:Vi har gruppeopphald for deg som er plaga med tinnitus. \nI gruppa får du rettleiing i tilpassa fysisk aktivitet og felles undervisning. Du får innføring i kognitiv terapi og innblikk i smarte strategiar for å kunne leve med plagene. \nLes meir om tilbodet her.
URL:https://www.rkhr.no/opphold/tinnitus-10/
LOCATION:Røde Kors Haugland Rehabiliteringssenter\, Hauglandsvegen 308\, Flekke\, 6968
CATEGORIES:Tinnitus
ATTACH;FMTTYPE=image/jpeg:https://www.rkhr.no/wp-content/uploads/2025/09/DSC00492-845x321-1.webp
END:VEVENT
BEGIN:VEVENT
DTSTART;TZID=Europe/Oslo:20260812T000000
DTEND;TZID=Europe/Oslo:20260902T235959
DTSTAMP:20260420T143858
CREATED:20250922T082257Z
LAST-MODIFIED:20251016T192154Z
UID:10000366-1786492800-1788393599@www.rkhr.no
SUMMARY:Prostatakreft
DESCRIPTION:Vi tilbyr tre vekers gruppeopphald for menn som har gjennomgått prostatakreftbehandling. Det vil vere opptil 8 personar i gruppa\, som igjen vil vere del av ei større gruppe på 18-20 pasientar der alle er behandla for ulike formar for kreft. \nEtter kreftbehandling kan det oppstå nye spørsmål og utfordringar. Kroppen har vore gjennom mykje og kvardagen kan kjennes annleis enn før. Vi har lang erfaring med rehabilitering etter kreftsjukdom og ser at dette kan være svært nyttig for vegen vidare. \nLes meir om tilbodet her.
URL:https://www.rkhr.no/opphold/prostatakreft-2-2/
LOCATION:Røde Kors Haugland Rehabiliteringssenter\, Hauglandsvegen 308\, Flekke\, 6968
CATEGORIES:Prostatakreft
ATTACH;FMTTYPE=image/jpeg:https://www.rkhr.no/wp-content/uploads/2025/06/Bilde-2-scaled-1.webp
END:VEVENT
END:VCALENDAR