BEGIN:VCALENDAR
VERSION:2.0
PRODID:-//Røde Kors Haugland Rehabiliteringssenter - ECPv6.15.20//NONSGML v1.0//EN
CALSCALE:GREGORIAN
METHOD:PUBLISH
X-ORIGINAL-URL:https://www.rkhr.no
X-WR-CALDESC:Arrangement for Røde Kors Haugland Rehabiliteringssenter
REFRESH-INTERVAL;VALUE=DURATION:PT1H
X-Robots-Tag:noindex
X-PUBLISHED-TTL:PT1H
BEGIN:VTIMEZONE
TZID:Europe/Oslo
BEGIN:DAYLIGHT
TZOFFSETFROM:+0100
TZOFFSETTO:+0200
TZNAME:CEST
DTSTART:20250330T010000
END:DAYLIGHT
BEGIN:STANDARD
TZOFFSETFROM:+0200
TZOFFSETTO:+0100
TZNAME:CET
DTSTART:20251026T010000
END:STANDARD
BEGIN:DAYLIGHT
TZOFFSETFROM:+0100
TZOFFSETTO:+0200
TZNAME:CEST
DTSTART:20260329T010000
END:DAYLIGHT
BEGIN:STANDARD
TZOFFSETFROM:+0200
TZOFFSETTO:+0100
TZNAME:CET
DTSTART:20261025T010000
END:STANDARD
BEGIN:DAYLIGHT
TZOFFSETFROM:+0100
TZOFFSETTO:+0200
TZNAME:CEST
DTSTART:20270328T010000
END:DAYLIGHT
BEGIN:STANDARD
TZOFFSETFROM:+0200
TZOFFSETTO:+0100
TZNAME:CET
DTSTART:20271031T010000
END:STANDARD
END:VTIMEZONE
BEGIN:VEVENT
DTSTART;TZID=Europe/Oslo:20260527T000000
DTEND;TZID=Europe/Oslo:20260617T235959
DTSTAMP:20260420T170923
CREATED:20250912T092638Z
LAST-MODIFIED:20251016T210510Z
UID:10000374-1779840000-1781740799@www.rkhr.no
SUMMARY:Multippel sklerose-gruppe
DESCRIPTION:Vi tilbyr gruppeopphald for personar med multippel sklerose (MS)\, som har behov for å opprettehalde eller betre funksjonsnivået sitt. \nMåla med opphaldet er å: \n\nlære meistringsstrategiar for å dosere aktivitet og sosial deltaking\, og/eller arbeidsdeltaking\ngje deg positive opplevingar knytt til det å bruke eigen kropp aktivt\nstarte ein prosess som skal kunne vidareførast ved heimkomst\n\nHer er tilrettelagte fasilitetar med to basseng og treningssalar\, treningsfasilitetar ute og fine turløyper. \nDu får fagleg oppfølging i tilpassa fysisk aktivitet og innføring i kognitiv terapi\, som er eit nyttig verktøy for å handsame utfordringar. \nI gruppa møter du andre med liknande erfaringar\, noko som er viktig for mange.
URL:https://www.rkhr.no/opphold/multippel-sklerose-gruppe-15-2/
LOCATION:Røde Kors Haugland Rehabiliteringssenter\, Hauglandsvegen 308\, Flekke\, 6968
CATEGORIES:Multippel sclerose
ATTACH;FMTTYPE=image/jpeg:https://www.rkhr.no/wp-content/uploads/2024/08/Heli_Haugland-oversikt_4-klipp-lys.webp
END:VEVENT
BEGIN:VEVENT
DTSTART;TZID=Europe/Oslo:20260527T000000
DTEND;TZID=Europe/Oslo:20260617T235959
DTSTAMP:20260420T170923
CREATED:20250912T102518Z
LAST-MODIFIED:20251202T110926Z
UID:10000381-1779840000-1781740799@www.rkhr.no
SUMMARY:Gruppeopphald for unge vaksne
DESCRIPTION:Vi tilbyr gruppeopphald for unge vaksne frå 18-30 år. Under re-/habiliteringsopphaldet jobbar vi for å: \n\nta eit steg mot eit meir aktivt og deltakande liv\nlegge til rette for meistring og at deltakarane kan utnytte potensialet sitt\nførebygge seineffekter etter alvorleg sjukdom\n\nTilbodet er for unge vaksne med erverva eller medfødt funksjonsnedsetting. Det kan vere unge vaksne som har ei fysisk funskjonsnedsetting og/eller har vore gjennom alvorleg sjukdom. Les korleis du søker her. \nMerk: Vi har rullerande opptak. Søk så raskt som mogleg\, og seinast to månader før opphaldet.
URL:https://www.rkhr.no/opphold/gruppeopphald-for-unge-vaksne-7-2/
LOCATION:Røde Kors Haugland Rehabiliteringssenter\, Hauglandsvegen 308\, Flekke\, 6968
CATEGORIES:Unge vaksne
ATTACH;FMTTYPE=image/jpeg:https://www.rkhr.no/wp-content/uploads/2025/09/GI6A7855.webp
END:VEVENT
BEGIN:VEVENT
DTSTART;TZID=Europe/Oslo:20260610T000000
DTEND;TZID=Europe/Oslo:20260701T235959
DTSTAMP:20260420T170923
CREATED:20250922T082257Z
LAST-MODIFIED:20260203T104120Z
UID:10000392-1781049600-1782950399@www.rkhr.no
SUMMARY:Kvinnekreftgruppe
DESCRIPTION:Vi har gruppeopphald til kvinner som har eller har hatt kreft. \nEtter at kreftbehandlinga er over\, dukkar det ofte opp nye spørsmål: Korleis er det å leve med ein kropp som har gjennomgått kreftbehandling? Kva er hensiktsmessig no\, og korleis bør du legge opp kvardagen? \nHer får du treffe andre kvinner som veit kva du snakkar om\, samtidig som du får fagleg rettleiing og oppfølging. \nMålet med gruppa er å hjelpe deg til å komme tilbake til eit aktivt liv med fysisk\, sosial og eventuelt arbeidsmessig deltaking. Du vil bli fulgt opp av eit dyktig tverrfagleg team som fokuserer på både fysisk og psykisk helse. \nVi legg vekt på å lære meistringsstrategiar gjennom tilpassa fysisk aktivitet\, undervisning og samtaler basert på kognitiv og metakognitiv terapi.
URL:https://www.rkhr.no/opphold/kvinnekreftgruppe-3-2/
LOCATION:Røde Kors Haugland Rehabiliteringssenter\, Hauglandsvegen 308\, Flekke\, 6968
CATEGORIES:Brystkreft,Kvinnekreft
ATTACH;FMTTYPE=image/jpeg:https://www.rkhr.no/wp-content/uploads/2025/09/Brystkreft-9.webp
END:VEVENT
END:VCALENDAR