BEGIN:VCALENDAR
VERSION:2.0
PRODID:-//Røde Kors Haugland Rehabiliteringssenter - ECPv6.15.20//NONSGML v1.0//EN
CALSCALE:GREGORIAN
METHOD:PUBLISH
X-WR-CALNAME:Røde Kors Haugland Rehabiliteringssenter
X-ORIGINAL-URL:https://www.rkhr.no
X-WR-CALDESC:Arrangement for Røde Kors Haugland Rehabiliteringssenter
REFRESH-INTERVAL;VALUE=DURATION:PT1H
X-Robots-Tag:noindex
X-PUBLISHED-TTL:PT1H
BEGIN:VTIMEZONE
TZID:Europe/Oslo
BEGIN:DAYLIGHT
TZOFFSETFROM:+0100
TZOFFSETTO:+0200
TZNAME:CEST
DTSTART:20250330T010000
END:DAYLIGHT
BEGIN:STANDARD
TZOFFSETFROM:+0200
TZOFFSETTO:+0100
TZNAME:CET
DTSTART:20251026T010000
END:STANDARD
BEGIN:DAYLIGHT
TZOFFSETFROM:+0100
TZOFFSETTO:+0200
TZNAME:CEST
DTSTART:20260329T010000
END:DAYLIGHT
BEGIN:STANDARD
TZOFFSETFROM:+0200
TZOFFSETTO:+0100
TZNAME:CET
DTSTART:20261025T010000
END:STANDARD
BEGIN:DAYLIGHT
TZOFFSETFROM:+0100
TZOFFSETTO:+0200
TZNAME:CEST
DTSTART:20270328T010000
END:DAYLIGHT
BEGIN:STANDARD
TZOFFSETFROM:+0200
TZOFFSETTO:+0100
TZNAME:CET
DTSTART:20271031T010000
END:STANDARD
END:VTIMEZONE
BEGIN:VEVENT
DTSTART;TZID=Europe/Oslo:20260211T000000
DTEND;TZID=Europe/Oslo:20260304T235959
DTSTAMP:20260420T143950
CREATED:20251127T085834Z
LAST-MODIFIED:20251127T221203Z
UID:10000397-1770768000-1772668799@www.rkhr.no
SUMMARY:Parkinsongruppe
DESCRIPTION:På Haugland har vi lang erfaring med gruppeopphald for deg som har Parkinsons sjukdom. \nMåla for opphaldet er å: \n\nlære meistringsstrategiar for å dosere ut aktivitet\, sosial deltaking\, og/eller arbeidsdeltaking\ngje deg positive opplevingar knytt til å bruke eigen kropp aktivt\nstarte ein prosess som skal kunne vidareførast ved heimkomst\n\nGruppeopphalda er ein god arena for å møte andre med same diagnose. Her får du òg fagleg rettleiing og oppfølging\, rundt spørsmål som: Kva trening er smart når du har fått Parkinson? Korleis kan du handtere at kroppen ikkje lenger vil samarbeide? Vi kjem òg inn på kognitiv terapi\, som er eit nyttig verktøy for å sjå på korleis du tenkjer om det som skjer med deg og kroppen din. Les meir om gruppeopphald for deg med Parkinsons sjukdom her.
URL:https://www.rkhr.no/opphold/parkinsongruppe-2/
LOCATION:Røde Kors Haugland Rehabiliteringssenter\, Hauglandsvegen 308\, Flekke\, 6968
CATEGORIES:Parkinson
ATTACH;FMTTYPE=image/jpeg:https://www.rkhr.no/wp-content/uploads/2025/10/DSC00854-scaled.webp
END:VEVENT
BEGIN:VEVENT
DTSTART;TZID=Europe/Oslo:20260218T000000
DTEND;TZID=Europe/Oslo:20260311T235959
DTSTAMP:20260420T143950
CREATED:20250912T105351Z
LAST-MODIFIED:20260203T104045Z
UID:10000239-1771372800-1773273599@www.rkhr.no
SUMMARY:Kvinnekreftgruppe
DESCRIPTION:Vi har gruppeopphald til kvinner som har eller har hatt kreft. \nEtter at kreftbehandlinga er over\, dukkar det ofte opp nye spørsmål: Korleis er det å leve med ein kropp som har gjennomgått kreftbehandling? Kva er hensiktsmessig no\, og korleis bør du legge opp kvardagen? \nHer får du treffe andre kvinner som veit kva du snakkar om\, samtidig som du får fagleg rettleiing og oppfølging. \nMålet med gruppa er å hjelpe deg til å komme tilbake til eit aktivt liv med fysisk\, sosial og eventuelt arbeidsmessig deltaking. Du vil bli fulgt opp av eit dyktig tverrfagleg team som fokuserer på både fysisk og psykisk helse. \nVi legg vekt på å lære meistringsstrategiar gjennom tilpassa fysisk aktivitet\, undervisning og samtaler basert på kognitiv og metakognitiv terapi.
URL:https://www.rkhr.no/opphold/kvinnekreftgruppe-2/
LOCATION:Røde Kors Haugland Rehabiliteringssenter\, Hauglandsvegen 308\, Flekke\, 6968
CATEGORIES:Brystkreft,Kvinnekreft
ATTACH;FMTTYPE=image/jpeg:https://www.rkhr.no/wp-content/uploads/2025/09/Brystkreft-9.webp
END:VEVENT
BEGIN:VEVENT
DTSTART;TZID=Europe/Oslo:20260225T000000
DTEND;TZID=Europe/Oslo:20260318T235959
DTSTAMP:20260420T143950
CREATED:20250912T090121Z
LAST-MODIFIED:20251017T065812Z
UID:10000362-1771977600-1773878399@www.rkhr.no
SUMMARY:Tinnitus
DESCRIPTION:Vi har gruppeopphald for deg som er plaga med tinnitus. \nI gruppa får du rettleiing i tilpassa fysisk aktivitet og felles undervisning. Du får innføring i kognitiv terapi og innblikk i smarte strategiar for å kunne leve med plagene. \nLes meir om tilbodet her.
URL:https://www.rkhr.no/opphold/tinnitus-9-2/
LOCATION:Røde Kors Haugland Rehabiliteringssenter\, Hauglandsvegen 308\, Flekke\, 6968
CATEGORIES:Tinnitus
ATTACH;FMTTYPE=image/jpeg:https://www.rkhr.no/wp-content/uploads/2025/10/IMG_3433-scaled.webp
END:VEVENT
BEGIN:VEVENT
DTSTART;TZID=Europe/Oslo:20260225T000000
DTEND;TZID=Europe/Oslo:20260318T235959
DTSTAMP:20260420T143950
CREATED:20250912T103243Z
LAST-MODIFIED:20251017T064820Z
UID:10000384-1771977600-1773878399@www.rkhr.no
SUMMARY:Gruppe for vestibulær sjukdom
DESCRIPTION:Vi tilbyr gruppeopphald for vaksne med vestibulære sjukdommar og Ménières sjukdom. \nPå eit gruppeopphald kan du lære mykje av å møte andre i same situasjon. \nDu får innføring i kognitiv terapi og innblikk i meistringsstrategiar for å kunne leve med plagene\, samt rettleiing i tilpassa fysisk aktivitet og felles undervisning.
URL:https://www.rkhr.no/opphold/gruppe-for-vestibulaer-sjukdom-3/
LOCATION:Røde Kors Haugland Rehabiliteringssenter\, Hauglandsvegen 308\, Flekke\, 6968
CATEGORIES:Vestibulær sjukdom
ATTACH;FMTTYPE=image/jpeg:https://www.rkhr.no/wp-content/uploads/2025/09/IMG_1220-scaled-e1681975658313.webp
END:VEVENT
END:VCALENDAR