BEGIN:VCALENDAR
VERSION:2.0
PRODID:-//Røde Kors Haugland Rehabiliteringssenter - ECPv6.15.20//NONSGML v1.0//EN
CALSCALE:GREGORIAN
METHOD:PUBLISH
X-WR-CALNAME:Røde Kors Haugland Rehabiliteringssenter
X-ORIGINAL-URL:https://www.rkhr.no
X-WR-CALDESC:Arrangement for Røde Kors Haugland Rehabiliteringssenter
REFRESH-INTERVAL;VALUE=DURATION:PT1H
X-Robots-Tag:noindex
X-PUBLISHED-TTL:PT1H
BEGIN:VTIMEZONE
TZID:Europe/Oslo
BEGIN:DAYLIGHT
TZOFFSETFROM:+0100
TZOFFSETTO:+0200
TZNAME:CEST
DTSTART:20240331T010000
END:DAYLIGHT
BEGIN:STANDARD
TZOFFSETFROM:+0200
TZOFFSETTO:+0100
TZNAME:CET
DTSTART:20241027T010000
END:STANDARD
BEGIN:DAYLIGHT
TZOFFSETFROM:+0100
TZOFFSETTO:+0200
TZNAME:CEST
DTSTART:20250330T010000
END:DAYLIGHT
BEGIN:STANDARD
TZOFFSETFROM:+0200
TZOFFSETTO:+0100
TZNAME:CET
DTSTART:20251026T010000
END:STANDARD
BEGIN:DAYLIGHT
TZOFFSETFROM:+0100
TZOFFSETTO:+0200
TZNAME:CEST
DTSTART:20260329T010000
END:DAYLIGHT
BEGIN:STANDARD
TZOFFSETFROM:+0200
TZOFFSETTO:+0100
TZNAME:CET
DTSTART:20261025T010000
END:STANDARD
END:VTIMEZONE
BEGIN:VEVENT
DTSTART;TZID=Europe/Oslo:20251111T000000
DTEND;TZID=Europe/Oslo:20251202T235959
DTSTAMP:20260420T183631
CREATED:20250912T105713Z
LAST-MODIFIED:20260203T104358Z
UID:10000394-1762819200-1764719999@www.rkhr.no
SUMMARY:Kvinnekreftgruppe
DESCRIPTION:Vi har gruppeopphald til kvinner som har eller har hatt kreft. \nEtter at kreftbehandlinga er over\, dukkar det ofte opp nye spørsmål: Korleis er det å leve med ein kropp som har gjennomgått kreftbehandling? Kva er hensiktsmessig no\, og korleis bør du legge opp kvardagen? \nHer får du treffe andre kvinner som veit kva du snakkar om\, samtidig som du får fagleg rettleiing og oppfølging. \nMålet med gruppa er å hjelpe deg til å komme tilbake til eit aktivt liv med fysisk\, sosial og eventuelt arbeidsmessig deltaking. Du vil bli fulgt opp av eit dyktig tverrfagleg team som fokuserer på både fysisk og psykisk helse. \nVi legg vekt på å lære meistringsstrategiar gjennom tilpassa fysisk aktivitet\, undervisning og samtaler basert på kognitiv og metakognitiv terapi.
URL:https://www.rkhr.no/opphold/kvinnekreftgruppe-5-2/
LOCATION:Røde Kors Haugland Rehabiliteringssenter\, Hauglandsvegen 308\, Flekke\, 6968
CATEGORIES:Brystkreft,Kvinnekreft
ATTACH;FMTTYPE=image/jpeg:https://www.rkhr.no/wp-content/uploads/2025/09/Brystkreft-9.webp
END:VEVENT
BEGIN:VEVENT
DTSTART;TZID=Europe/Oslo:20251112T000000
DTEND;TZID=Europe/Oslo:20251203T235959
DTSTAMP:20260420T183631
CREATED:20250818T120941Z
LAST-MODIFIED:20251016T201147Z
UID:10000002-1762905600-1764806399@www.rkhr.no
SUMMARY:Parkinsongruppe
DESCRIPTION:På Haugland har vi lang erfaring med gruppeopphald for deg som har Parkinsons sjukdom. \nMåla for opphaldet er å: \n\nlære meistringsstrategiar for å dosere ut aktivitet\, sosial deltaking\, og/eller arbeidsdeltaking\ngje deg positive opplevingar knytt til å bruke eigen kropp aktivt\nstarte ein prosess som skal kunne vidareførast ved heimkomst\n\nGruppeopphalda er ein god arena for å møte andre med same diagnose. \nHer får du òg fagleg rettleiing og oppfølging\, rundt spørsmål som: Kva trening er smart når du har fått Parkinson? Korleis kan du handtere at kroppen ikkje lenger vil samarbeide? Vi kjem òg inn på kognitiv terapi\, som er eit nyttig verktøy for å sjå på korleis du tenkjer om det som skjer med deg og kroppen din. \nLes meir om gruppeopphald for deg med Parkinsons sjukdom her.
URL:https://www.rkhr.no/opphold/parkinsongruppe/
LOCATION:Røde Kors Haugland Rehabiliteringssenter\, Hauglandsvegen 308\, Flekke\, 6968
CATEGORIES:Parkinson
ATTACH;FMTTYPE=image/jpeg:https://www.rkhr.no/wp-content/uploads/2025/06/Bilde-2-scaled-1.webp
END:VEVENT
BEGIN:VEVENT
DTSTART;TZID=Europe/Oslo:20251203T000000
DTEND;TZID=Europe/Oslo:20251223T235959
DTSTAMP:20260420T183631
CREATED:20250912T085411Z
LAST-MODIFIED:20251202T090007Z
UID:10000179-1764720000-1766534399@www.rkhr.no
SUMMARY:Parkinsongruppe
DESCRIPTION:På Haugland har vi lang erfaring med gruppeopphald for deg som har Parkinsons sjukdom. \nMåla for opphaldet er å: \n\nlære meistringsstrategiar for å dosere ut aktivitet\, sosial deltaking\, og/eller arbeidsdeltaking\ngje deg positive opplevingar knytt til å bruke eigen kropp aktivt\nstarte ein prosess som skal kunne vidareførast ved heimkomst\n\nGruppeopphalda er ein god arena for å møte andre med same diagnose. \nHer får du òg fagleg rettleiing og oppfølging\, rundt spørsmål som: Kva trening er smart når du har fått Parkinson? Korleis kan du handtere at kroppen ikkje lenger vil samarbeide? Vi kjem òg inn på kognitiv terapi\, som er eit nyttig verktøy for å sjå på korleis du tenkjer om det som skjer med deg og kroppen din. \nLes meir om gruppeopphald for deg med Parkinsons sjukdom her.
URL:https://www.rkhr.no/opphold/parkinsongruppe-18/
LOCATION:Røde Kors Haugland Rehabiliteringssenter\, Hauglandsvegen 308\, Flekke\, 6968
CATEGORIES:Parkinson
ATTACH;FMTTYPE=image/jpeg:https://www.rkhr.no/wp-content/uploads/2025/09/Bilde-2-scaled-1.webp
END:VEVENT
END:VCALENDAR