BEGIN:VCALENDAR
VERSION:2.0
PRODID:-//Røde Kors Haugland Rehabiliteringssenter - ECPv6.15.20//NONSGML v1.0//EN
CALSCALE:GREGORIAN
METHOD:PUBLISH
X-WR-CALNAME:Røde Kors Haugland Rehabiliteringssenter
X-ORIGINAL-URL:https://www.rkhr.no
X-WR-CALDESC:Arrangement for Røde Kors Haugland Rehabiliteringssenter
REFRESH-INTERVAL;VALUE=DURATION:PT1H
X-Robots-Tag:noindex
X-PUBLISHED-TTL:PT1H
BEGIN:VTIMEZONE
TZID:Europe/Oslo
BEGIN:DAYLIGHT
TZOFFSETFROM:+0100
TZOFFSETTO:+0200
TZNAME:CEST
DTSTART:20240331T010000
END:DAYLIGHT
BEGIN:STANDARD
TZOFFSETFROM:+0200
TZOFFSETTO:+0100
TZNAME:CET
DTSTART:20241027T010000
END:STANDARD
BEGIN:DAYLIGHT
TZOFFSETFROM:+0100
TZOFFSETTO:+0200
TZNAME:CEST
DTSTART:20250330T010000
END:DAYLIGHT
BEGIN:STANDARD
TZOFFSETFROM:+0200
TZOFFSETTO:+0100
TZNAME:CET
DTSTART:20251026T010000
END:STANDARD
BEGIN:DAYLIGHT
TZOFFSETFROM:+0100
TZOFFSETTO:+0200
TZNAME:CEST
DTSTART:20260329T010000
END:DAYLIGHT
BEGIN:STANDARD
TZOFFSETFROM:+0200
TZOFFSETTO:+0100
TZNAME:CET
DTSTART:20261025T010000
END:STANDARD
END:VTIMEZONE
BEGIN:VEVENT
DTSTART;TZID=Europe/Oslo:20250910T000000
DTEND;TZID=Europe/Oslo:20250924T235959
DTSTAMP:20260420T231438
CREATED:20241216T135344Z
LAST-MODIFIED:20251014T121250Z
UID:10000162-1757462400-1758758399@www.rkhr.no
SUMMARY:Gruppeopphald for unge vaksne
DESCRIPTION:Vi tilbyr gruppeopphald for unge vaksne frå 18-30 år. \nUnder re-/habiliteringsopphaldet jobbar vi for å: \n\nta eit steg mot eit meir aktivt og deltakande liv\nlegge til rette for meistring og at deltakarane kan utnytte potensialet sitt\nførebygge seineffekter etter alvorleg sjukdom\n\nTilbodet er for unge vaksne med erverva eller medfødt funksjonsnedsetting. \nDet kan vere unge vaksne som har ei fysisk funskjonsnedsetting og/eller har vore gjennom alvorleg sjukdom. \nLes korleis du søker her. \nMerk: Vi har rullerande opptak. Søk så raskt som mogleg\, og seinast to månader før opphaldet.
URL:https://www.rkhr.no/opphold/gruppeopphald-for-unge-vaksne-4/
CATEGORIES:Barnegruppa,Unge vaksne
ATTACH;FMTTYPE=image/jpeg:https://www.rkhr.no/wp-content/uploads/2024/12/image00036-scaled-1.webp
END:VEVENT
BEGIN:VEVENT
DTSTART;TZID=Europe/Oslo:20250917T000000
DTEND;TZID=Europe/Oslo:20251001T235959
DTSTAMP:20260420T231438
CREATED:20250117T120223Z
LAST-MODIFIED:20250117T120223Z
UID:10000168-1758067200-1759363199@www.rkhr.no
SUMMARY:Cerebral parese-gruppe
DESCRIPTION:Gruppetilbod for deg som har Cerebral parese (CP)\, der målet er å fremje aktivitet og deltaking i eige liv. \nTilbodet passar for deg som har behov for å betre eller oppretthalde mest mogleg av funksjonsnivået ditt. Vi legg til rette for tilpassa fysisk aktivitet\, arbeid med meistringsstrategiar og å gje meistringsopplevingar. Senteret har tilrettelagte fasilitetar med mellom anna to basseng\, gymsal\, klatrevegg og treningssalar\, samt treningsfasilitetar ute og fine turløyper. \nVi ser at likemannshjelpa\, der ein møter andre i same situasjon\, også er av stor verdi ved eit gruppeopphald. \nLes meir om tilbodet her. 
URL:https://www.rkhr.no/opphold/cerebral-parese-gruppe-2/
CATEGORIES:Cerebral Parese
ATTACH;FMTTYPE=image/jpeg:https://www.rkhr.no/wp-content/uploads/2019/11/Brystkreft-9.webp
END:VEVENT
BEGIN:VEVENT
DTSTART;TZID=Europe/Oslo:20250917T000000
DTEND;TZID=Europe/Oslo:20251001T235959
DTSTAMP:20260420T231438
CREATED:20250218T114922Z
LAST-MODIFIED:20250929T132826Z
UID:10000175-1758067200-1759363199@www.rkhr.no
SUMMARY:Gruppeopphald for barn og ungdom
DESCRIPTION:I september 2025 har vi gruppeopphald for barn og ungdom frå 6-17 år. \nDenne gruppa er for barn/ ungdom som har ei fysisk funksjonsnedsetting og/ eller har vore gjennom alvorleg sjukdom. \nUnder opphaldet jobbar vi for å: \n\nta eit steg mot eit meir aktivt og deltakande liv\nlegge til rette for meistring og at barnet/ungdommen kan utnytte potensialet sitt\nførebygge seineffekter etter alvorleg sjukdom\n\nLes meir om tilbodet her og korleis du søker her.
URL:https://www.rkhr.no/opphold/gruppeopphald-for-barn-og-ungdom-4/
CATEGORIES:Barn og ungdom med funksjonsnedsetting
ATTACH;FMTTYPE=image/jpeg:https://www.rkhr.no/wp-content/uploads/2022/04/DSC01777-scaled-1.webp
END:VEVENT
BEGIN:VEVENT
DTSTART;TZID=Europe/Oslo:20250924T000000
DTEND;TZID=Europe/Oslo:20251015T235959
DTSTAMP:20260420T231438
CREATED:20241216T132632Z
LAST-MODIFIED:20251014T121029Z
UID:10000158-1758672000-1760572799@www.rkhr.no
SUMMARY:Gruppe for vestibulære sjukdommar
DESCRIPTION:Vi tilbyr gruppeopphald for vaksne med vestibulære sjukdommar. \nPå eit gruppeopphald kan du lære mykje av å møte andre i same situasjon. \nDu får innføring i kognitiv terapi og innblikk i meistringsstrategiar for å kunne leve med plagene\, samt rettleiing i tilpassa fysisk aktivitet og felles undervisning.
URL:https://www.rkhr.no/opphold/gruppe-for-vestibulaere-sjukdommar-4/
CATEGORIES:Vestibulær sjukdom
ATTACH;FMTTYPE=image/jpeg:https://www.rkhr.no/wp-content/uploads/2025/09/Bilde-2-scaled-1.webp
END:VEVENT
END:VCALENDAR