BEGIN:VCALENDAR
VERSION:2.0
PRODID:-//Røde Kors Haugland Rehabiliteringssenter - ECPv6.15.20//NONSGML v1.0//EN
CALSCALE:GREGORIAN
METHOD:PUBLISH
X-WR-CALNAME:Røde Kors Haugland Rehabiliteringssenter
X-ORIGINAL-URL:https://www.rkhr.no
X-WR-CALDESC:Arrangement for Røde Kors Haugland Rehabiliteringssenter
REFRESH-INTERVAL;VALUE=DURATION:PT1H
X-Robots-Tag:noindex
X-PUBLISHED-TTL:PT1H
BEGIN:VTIMEZONE
TZID:Europe/Oslo
BEGIN:DAYLIGHT
TZOFFSETFROM:+0100
TZOFFSETTO:+0200
TZNAME:CEST
DTSTART:20230326T010000
END:DAYLIGHT
BEGIN:STANDARD
TZOFFSETFROM:+0200
TZOFFSETTO:+0100
TZNAME:CET
DTSTART:20231029T010000
END:STANDARD
BEGIN:DAYLIGHT
TZOFFSETFROM:+0100
TZOFFSETTO:+0200
TZNAME:CEST
DTSTART:20240331T010000
END:DAYLIGHT
BEGIN:STANDARD
TZOFFSETFROM:+0200
TZOFFSETTO:+0100
TZNAME:CET
DTSTART:20241027T010000
END:STANDARD
BEGIN:DAYLIGHT
TZOFFSETFROM:+0100
TZOFFSETTO:+0200
TZNAME:CEST
DTSTART:20250330T010000
END:DAYLIGHT
BEGIN:STANDARD
TZOFFSETFROM:+0200
TZOFFSETTO:+0100
TZNAME:CET
DTSTART:20251026T010000
END:STANDARD
END:VTIMEZONE
BEGIN:VEVENT
DTSTART;TZID=Europe/Oslo:20240904T000000
DTEND;TZID=Europe/Oslo:20240925T235959
DTSTAMP:20260421T155703
CREATED:20240610T125641Z
LAST-MODIFIED:20240610T125641Z
UID:10000134-1725408000-1727308799@www.rkhr.no
SUMMARY:Multippel sklerose-gruppe
DESCRIPTION:Vi tilbyr gruppeopphald for personar med multippel sklerose (MS)\, som har behov for å opprettehalde eller betre funksjonsnivået sitt. \nMåla med opphaldet er å: \n\nlære meistringsstrategiar for å dosere aktivitet og sosial deltaking\, og/eller arbeidsdeltaking\ngje deg positive opplevingar knytt til det å bruke eigen kropp aktivt\nstarte ein prosess som skal kunne vidareførast ved heimkomst\n\nHer er tilrettelagte fasilitetar med to basseng og treningssalar\, treningsfasilitetar ute og fine turløyper. \nDu får fagleg oppfølging i tilpassa fysisk aktivitet og innføring i kognitiv terapi\, som er eit nyttig verktøy for å handsame utfordringar. \nI gruppa møter du andre med liknande erfaringar\, noko som er viktig for mange.
URL:https://www.rkhr.no/opphold/multippel-sklerose-gruppe-9/
CATEGORIES:Multippel sclerose
END:VEVENT
BEGIN:VEVENT
DTSTART;TZID=Europe/Oslo:20240911T000000
DTEND;TZID=Europe/Oslo:20241002T235959
DTSTAMP:20260421T155703
CREATED:20240212T104608Z
LAST-MODIFIED:20240212T104608Z
UID:10000130-1726012800-1727913599@www.rkhr.no
SUMMARY:Gruppe for vestibulære sjukdommar og Ménières
DESCRIPTION:Vi tilbyr gruppeopphald for vaksne med vestibulære sjukdommar og Ménières sjukdom. \nPå eit gruppeopphald kan du lære mykje av å møte andre i same situasjon. \nDu får innføring i kognitiv terapi og innblikk i meistringsstrategiar for å kunne leve med plagene\, samt rettleiing i tilpassa fysisk aktivitet og felles undervisning.
URL:https://www.rkhr.no/opphold/gruppe-for-vestibulaere-sjukdommar-og-menieres-2/
CATEGORIES:Vestibulær sjukdom
ATTACH;FMTTYPE=:
END:VEVENT
BEGIN:VEVENT
DTSTART;TZID=Europe/Oslo:20240918T000000
DTEND;TZID=Europe/Oslo:20241009T235959
DTSTAMP:20260421T155703
CREATED:20240212T103617Z
LAST-MODIFIED:20240212T103617Z
UID:10000127-1726617600-1728518399@www.rkhr.no
SUMMARY:Brystkreftgruppe
DESCRIPTION:Vi har gruppeopphald til kvinner som har eller har hatt brystkreft. \nEtter at kreftbehandlinga er over\, dukkar det ofte opp nye spørsmål: Korleis er det å leve med ein kropp som har gjennomgått kreftbehandling? Kva er hensiktsmessig no\, og korleis bør du legge opp kvardagen? \nHer får du treffe andre kvinner som veit kva du snakkar om\, samtidig som du får fagleg rettleiing og oppfølging. \nMålet med gruppa er å hjelpe deg til å komme tilbake til eit aktivt liv med fysisk\, sosial og eventuelt arbeidsmessig deltaking. Du vil bli fulgt opp av eit dyktig tverrfagleg team som fokuserer på både fysisk og psykisk helse. \nVi legg vekt på å lære meistringsstrategiar gjennom tilpassa fysisk aktivitet\, undervisning og samtaler basert på kognitiv og metakognitiv terapi.
URL:https://www.rkhr.no/opphold/brystkreftgruppe-5-2/
CATEGORIES:Brystkreft
ATTACH;FMTTYPE=:
END:VEVENT
BEGIN:VEVENT
DTSTART;TZID=Europe/Oslo:20240925T000000
DTEND;TZID=Europe/Oslo:20241016T235959
DTSTAMP:20260421T155703
CREATED:20240212T102540Z
LAST-MODIFIED:20240212T102540Z
UID:10000126-1727222400-1729123199@www.rkhr.no
SUMMARY:Multippel sklerose-gruppe
DESCRIPTION:Vi tilbyr gruppeopphald for personar med multippel sklerose (MS)\, som har behov for å opprettehalde eller betre funksjonsnivået sitt. \nMåla med opphaldet er å: \n\nlære meistringsstrategiar for å dosere aktivitet og sosial deltaking\, og/eller arbeidsdeltaking\ngje deg positive opplevingar knytt til det å bruke eigen kropp aktivt\nstarte ein prosess som skal kunne vidareførast ved heimkomst\n\nHer er tilrettelagte fasilitetar med to basseng og treningssalar\, treningsfasilitetar ute og fine turløyper. \nDu får fagleg oppfølging i tilpassa fysisk aktivitet og innføring i kognitiv terapi\, som er eit nyttig verktøy for å handsame utfordringar. \nI gruppa møter du andre med liknande erfaringar\, noko som er viktig for mange.
URL:https://www.rkhr.no/opphold/multippel-sklerose-gruppe-8/
CATEGORIES:Multippel sclerose
END:VEVENT
END:VCALENDAR