BEGIN:VCALENDAR
VERSION:2.0
PRODID:-//Røde Kors Haugland Rehabiliteringssenter - ECPv6.15.20//NONSGML v1.0//EN
CALSCALE:GREGORIAN
METHOD:PUBLISH
X-WR-CALNAME:Røde Kors Haugland Rehabiliteringssenter
X-ORIGINAL-URL:https://www.rkhr.no
X-WR-CALDESC:Arrangement for Røde Kors Haugland Rehabiliteringssenter
REFRESH-INTERVAL;VALUE=DURATION:PT1H
X-Robots-Tag:noindex
X-PUBLISHED-TTL:PT1H
BEGIN:VTIMEZONE
TZID:Europe/Oslo
BEGIN:DAYLIGHT
TZOFFSETFROM:+0100
TZOFFSETTO:+0200
TZNAME:CEST
DTSTART:20250330T010000
END:DAYLIGHT
BEGIN:STANDARD
TZOFFSETFROM:+0200
TZOFFSETTO:+0100
TZNAME:CET
DTSTART:20251026T010000
END:STANDARD
BEGIN:DAYLIGHT
TZOFFSETFROM:+0100
TZOFFSETTO:+0200
TZNAME:CEST
DTSTART:20260329T010000
END:DAYLIGHT
BEGIN:STANDARD
TZOFFSETFROM:+0200
TZOFFSETTO:+0100
TZNAME:CET
DTSTART:20261025T010000
END:STANDARD
BEGIN:DAYLIGHT
TZOFFSETFROM:+0100
TZOFFSETTO:+0200
TZNAME:CEST
DTSTART:20270328T010000
END:DAYLIGHT
BEGIN:STANDARD
TZOFFSETFROM:+0200
TZOFFSETTO:+0100
TZNAME:CET
DTSTART:20271031T010000
END:STANDARD
END:VTIMEZONE
BEGIN:VEVENT
DTSTART;TZID=Europe/Oslo:20260930T000000
DTEND;TZID=Europe/Oslo:20261021T235959
DTSTAMP:20260420T085840
CREATED:20250922T082242Z
LAST-MODIFIED:20251017T065717Z
UID:10000364-1790726400-1792627199@www.rkhr.no
SUMMARY:Tinnitus
DESCRIPTION:Vi har gruppeopphald for deg som er plaga med tinnitus. \nI gruppa får du rettleiing i tilpassa fysisk aktivitet og felles undervisning. Du får innføring i kognitiv terapi og innblikk i smarte strategiar for å kunne leve med plagene. \nLes meir om tilbodet her.
URL:https://www.rkhr.no/opphold/tinnitus-11-2/
LOCATION:Røde Kors Haugland Rehabiliteringssenter\, Hauglandsvegen 308\, Flekke\, 6968
CATEGORIES:Tinnitus
ATTACH;FMTTYPE=image/jpeg:https://www.rkhr.no/wp-content/uploads/2025/09/DSC00492-845x321-1.webp
END:VEVENT
BEGIN:VEVENT
DTSTART;TZID=Europe/Oslo:20260930T000000
DTEND;TZID=Europe/Oslo:20261021T235959
DTSTAMP:20260420T085840
CREATED:20250922T082242Z
LAST-MODIFIED:20251202T111029Z
UID:10000382-1790726400-1792627199@www.rkhr.no
SUMMARY:Gruppeopphald for unge vaksne
DESCRIPTION:Vi tilbyr gruppeopphald for unge vaksne frå 18-30 år. Under re-/habiliteringsopphaldet jobbar vi for å: \n\nta eit steg mot eit meir aktivt og deltakande liv\nlegge til rette for meistring og at deltakarane kan utnytte potensialet sitt\nførebygge seineffekter etter alvorleg sjukdom\n\nTilbodet er for unge vaksne med erverva eller medfødt funksjonsnedsetting. Det kan vere unge vaksne som har ei fysisk funskjonsnedsetting og/eller har vore gjennom alvorleg sjukdom. Les korleis du søker her. \nMerk: Vi har rullerande opptak. Søk så raskt som mogleg\, og seinast to månader før opphaldet.
URL:https://www.rkhr.no/opphold/gruppeopphald-for-unge-vaksne-8-2/
LOCATION:Røde Kors Haugland Rehabiliteringssenter\, Hauglandsvegen 308\, Flekke\, 6968
CATEGORIES:Unge vaksne
ATTACH;FMTTYPE=image/jpeg:https://www.rkhr.no/wp-content/uploads/2025/09/GI6A7855.webp
END:VEVENT
BEGIN:VEVENT
DTSTART;TZID=Europe/Oslo:20261007T000000
DTEND;TZID=Europe/Oslo:20261021T235959
DTSTAMP:20260420T085840
CREATED:20250922T082242Z
LAST-MODIFIED:20260227T122253Z
UID:10000218-1791331200-1792627199@www.rkhr.no
SUMMARY:Barn 6–17 år
DESCRIPTION:Vi har gruppeopphald for barn og ungdom frå 6-17 år som har ei fysisk funksjonsnedsetting og/ eller har vore gjennom alvorleg sjukdom. Vi prøver å tilpasse gruppene utifrå alder og problemstilling. \nSjå ofte stilte spørsmål for meir informasjon om tilbodet. \nLes og om fasilietar og aktivitet\, og dei ulike fritidstilboda under opphaldet.
URL:https://www.rkhr.no/opphold/barn-6-17-ar-4/
LOCATION:Røde Kors Haugland Rehabiliteringssenter\, Hauglandsvegen 308\, Flekke\, 6968
CATEGORIES:Barnegruppe - Ulike diagnoser
ATTACH;FMTTYPE=image/jpeg:https://www.rkhr.no/wp-content/uploads/2026/02/GI6A0313-scaled-e1770375649278.webp
END:VEVENT
BEGIN:VEVENT
DTSTART;TZID=Europe/Oslo:20261014T000000
DTEND;TZID=Europe/Oslo:20261104T235959
DTSTAMP:20260420T085840
CREATED:20250922T082242Z
LAST-MODIFIED:20251016T201519Z
UID:10000200-1791936000-1793836799@www.rkhr.no
SUMMARY:Parkinsongruppe
DESCRIPTION:På Haugland har vi lang erfaring med gruppeopphald for deg som har Parkinsons sjukdom. \nMåla for opphaldet er å: \n\nlære meistringsstrategiar for å dosere ut aktivitet\, sosial deltaking\, og/eller arbeidsdeltaking\ngje deg positive opplevingar knytt til å bruke eigen kropp aktivt\nstarte ein prosess som skal kunne vidareførast ved heimkomst\n\nGruppeopphalda er ein god arena for å møte andre med same diagnose. \nHer får du òg fagleg rettleiing og oppfølging\, rundt spørsmål som: Kva trening er smart når du har fått Parkinson? Korleis kan du handtere at kroppen ikkje lenger vil samarbeide? Vi kjem òg inn på kognitiv terapi\, som er eit nyttig verktøy for å sjå på korleis du tenkjer om det som skjer med deg og kroppen din. \nLes meir om gruppeopphald for deg med Parkinsons sjukdom her.
URL:https://www.rkhr.no/opphold/parkinsongruppe-23/
LOCATION:Røde Kors Haugland Rehabiliteringssenter\, Hauglandsvegen 308\, Flekke\, 6968
CATEGORIES:Parkinson
ATTACH;FMTTYPE=image/jpeg:https://www.rkhr.no/wp-content/uploads/2025/09/SolfureFoto092A6043-845x321-1.webp
END:VEVENT
BEGIN:VEVENT
DTSTART;TZID=Europe/Oslo:20261021T000000
DTEND;TZID=Europe/Oslo:20261111T235959
DTSTAMP:20260420T085840
CREATED:20250922T082241Z
LAST-MODIFIED:20251202T111131Z
UID:10000224-1792540800-1794441599@www.rkhr.no
SUMMARY:Gruppeopphald for unge vaksne
DESCRIPTION:Vi tilbyr gruppeopphald for unge vaksne frå 18-30 år. Under re-/habiliteringsopphaldet jobbar vi for å: \n\nta eit steg mot eit meir aktivt og deltakande liv\nlegge til rette for meistring og at deltakarane kan utnytte potensialet sitt\nførebygge seineffekter etter alvorleg sjukdom\n\nTilbodet er for unge vaksne med erverva eller medfødt funksjonsnedsetting. Det kan vere unge vaksne som har ei fysisk funskjonsnedsetting og/eller har vore gjennom alvorleg sjukdom. Les korleis du søker her. \nMerk: Vi har rullerande opptak. Søk så raskt som mogleg\, og seinast to månader før opphaldet.
URL:https://www.rkhr.no/opphold/gruppeopphald-for-unge-vaksne-9/
LOCATION:Røde Kors Haugland Rehabiliteringssenter\, Hauglandsvegen 308\, Flekke\, 6968
CATEGORIES:Unge vaksne
ATTACH;FMTTYPE=image/jpeg:https://www.rkhr.no/wp-content/uploads/2025/09/GI6A7855.webp
END:VEVENT
BEGIN:VEVENT
DTSTART;TZID=Europe/Oslo:20261104T000000
DTEND;TZID=Europe/Oslo:20261125T235959
DTSTAMP:20260420T085840
CREATED:20250922T082241Z
LAST-MODIFIED:20251016T210609Z
UID:10000376-1793750400-1795651199@www.rkhr.no
SUMMARY:Multippel sklerose-gruppe
DESCRIPTION:Vi tilbyr gruppeopphald for personar med multippel sklerose (MS)\, som har behov for å opprettehalde eller betre funksjonsnivået sitt. \nMåla med opphaldet er å: \n\nlære meistringsstrategiar for å dosere aktivitet og sosial deltaking\, og/eller arbeidsdeltaking\ngje deg positive opplevingar knytt til det å bruke eigen kropp aktivt\nstarte ein prosess som skal kunne vidareførast ved heimkomst\n\nHer er tilrettelagte fasilitetar med to basseng og treningssalar\, treningsfasilitetar ute og fine turløyper. \nDu får fagleg oppfølging i tilpassa fysisk aktivitet og innføring i kognitiv terapi\, som er eit nyttig verktøy for å handsame utfordringar. \nI gruppa møter du andre med liknande erfaringar\, noko som er viktig for mange.
URL:https://www.rkhr.no/opphold/multippel-sklerose-gruppe-17-2/
LOCATION:Røde Kors Haugland Rehabiliteringssenter\, Hauglandsvegen 308\, Flekke\, 6968
CATEGORIES:Multippel sclerose
ATTACH;FMTTYPE=image/jpeg:https://www.rkhr.no/wp-content/uploads/2024/08/Heli_Haugland-oversikt_4-klipp-lys.webp
END:VEVENT
BEGIN:VEVENT
DTSTART;TZID=Europe/Oslo:20261125T000000
DTEND;TZID=Europe/Oslo:20261222T235959
DTSTAMP:20260420T085840
CREATED:20250922T082241Z
LAST-MODIFIED:20251016T201600Z
UID:10000372-1795564800-1797983999@www.rkhr.no
SUMMARY:Parkinsongruppe
DESCRIPTION:På Haugland har vi lang erfaring med gruppeopphald for deg som har Parkinsons sjukdom. \nMåla for opphaldet er å: \n\nlære meistringsstrategiar for å dosere ut aktivitet\, sosial deltaking\, og/eller arbeidsdeltaking\ngje deg positive opplevingar knytt til å bruke eigen kropp aktivt\nstarte ein prosess som skal kunne vidareførast ved heimkomst\n\nGruppeopphalda er ein god arena for å møte andre med same diagnose. Her får du òg fagleg rettleiing og oppfølging\, rundt spørsmål som: Kva trening er smart når du har fått Parkinson? Korleis kan du handtere at kroppen ikkje lenger vil samarbeide? Vi kjem òg inn på kognitiv terapi\, som er eit nyttig verktøy for å sjå på korleis du tenkjer om det som skjer med deg og kroppen din. Les meir om gruppeopphald for deg med Parkinsons sjukdom her.
URL:https://www.rkhr.no/opphold/parkinsongruppe-24-2/
LOCATION:Røde Kors Haugland Rehabiliteringssenter\, Hauglandsvegen 308\, Flekke\, 6968
CATEGORIES:Parkinson
ATTACH;FMTTYPE=image/jpeg:https://www.rkhr.no/wp-content/uploads/2025/06/Bilde-2-scaled-1.webp
END:VEVENT
BEGIN:VEVENT
DTSTART;TZID=Europe/Oslo:20261202T000000
DTEND;TZID=Europe/Oslo:20261222T235959
DTSTAMP:20260420T085840
CREATED:20260416T062605Z
LAST-MODIFIED:20260416T063005Z
UID:10000400-1796169600-1797983999@www.rkhr.no
SUMMARY:Gruppe for vestibulær sjukdom
DESCRIPTION:Vi tilbyr gruppeopphald for vaksne med vestibulære sjukdommar. \nPå eit gruppeopphald kan du lære mykje av å møte andre i same situasjon. \nDu får innføring i kognitiv terapi og innblikk i meistringsstrategiar for å kunne leve med plagene\, samt rettleiing i tilpassa fysisk aktivitet og felles undervisning.
URL:https://www.rkhr.no/opphold/gruppe-for-vestibulaer-sjukdom-dupliser/
LOCATION:Røde Kors Haugland Rehabiliteringssenter\, Hauglandsvegen 308\, Flekke\, 6968
CATEGORIES:Vestibulær sjukdom
ATTACH;FMTTYPE=image/jpeg:https://www.rkhr.no/wp-content/uploads/2025/04/P1130022.webp
END:VEVENT
END:VCALENDAR