BEGIN:VCALENDAR
VERSION:2.0
PRODID:-//Røde Kors Haugland Rehabiliteringssenter - ECPv6.15.20//NONSGML v1.0//EN
CALSCALE:GREGORIAN
METHOD:PUBLISH
X-WR-CALNAME:Røde Kors Haugland Rehabiliteringssenter
X-ORIGINAL-URL:https://www.rkhr.no
X-WR-CALDESC:Arrangement for Røde Kors Haugland Rehabiliteringssenter
REFRESH-INTERVAL;VALUE=DURATION:PT1H
X-Robots-Tag:noindex
X-PUBLISHED-TTL:PT1H
BEGIN:VTIMEZONE
TZID:Europe/Oslo
BEGIN:DAYLIGHT
TZOFFSETFROM:+0100
TZOFFSETTO:+0200
TZNAME:CEST
DTSTART:20230326T010000
END:DAYLIGHT
BEGIN:STANDARD
TZOFFSETFROM:+0200
TZOFFSETTO:+0100
TZNAME:CET
DTSTART:20231029T010000
END:STANDARD
BEGIN:DAYLIGHT
TZOFFSETFROM:+0100
TZOFFSETTO:+0200
TZNAME:CEST
DTSTART:20240331T010000
END:DAYLIGHT
BEGIN:STANDARD
TZOFFSETFROM:+0200
TZOFFSETTO:+0100
TZNAME:CET
DTSTART:20241027T010000
END:STANDARD
BEGIN:DAYLIGHT
TZOFFSETFROM:+0100
TZOFFSETTO:+0200
TZNAME:CEST
DTSTART:20250330T010000
END:DAYLIGHT
BEGIN:STANDARD
TZOFFSETFROM:+0200
TZOFFSETTO:+0100
TZNAME:CET
DTSTART:20251026T010000
END:STANDARD
END:VTIMEZONE
BEGIN:VEVENT
DTSTART;TZID=Europe/Oslo:20240703T000000
DTEND;TZID=Europe/Oslo:20240724T235959
DTSTAMP:20260420T234451
CREATED:20240212T095711Z
LAST-MODIFIED:20240212T095711Z
UID:10000123-1719964800-1721865599@www.rkhr.no
SUMMARY:Parkinsongruppe
DESCRIPTION:På Haugland har vi lang erfaring med gruppeopphald for deg som har Parkinsons sjukdom. \nMåla for opphaldet er å: \n\nlære meistringsstrategiar for å dosere ut aktivitet\, sosial deltaking\, og/eller arbeidsdeltaking\ngje deg positive opplevingar knytt til å bruke eigen kropp aktivt\nstarte ein prosess som skal kunne vidareførast ved heimkomst\n\nGruppeopphalda er ein god arena for å møte andre med same diagnose. \nHer får du òg fagleg rettleiing og oppfølging\, rundt spørsmål som: Kva trening er smart når du har fått Parkinson? Korleis kan du handtere at kroppen ikkje lenger vil samarbeide? Vi kjem òg inn på kognitiv terapi\, som er eit nyttig verktøy for å sjå på korleis du tenkjer om det som skjer med deg og kroppen din. \nLes meir om gruppeopphald for deg med Parkinsons sjukdom her.
URL:https://www.rkhr.no/opphold/parkinsongruppe-10/
CATEGORIES:Parkinson
ATTACH;FMTTYPE=:
END:VEVENT
BEGIN:VEVENT
DTSTART;TZID=Europe/Oslo:20240612T000000
DTEND;TZID=Europe/Oslo:20240703T235959
DTSTAMP:20260420T234451
CREATED:20240212T102444Z
LAST-MODIFIED:20240212T102444Z
UID:10000125-1718150400-1720051199@www.rkhr.no
SUMMARY:Multippel sklerose-gruppe
DESCRIPTION:Vi tilbyr gruppeopphald for personar med multippel sklerose (MS)\, som har behov for å opprettehalde eller betre funksjonsnivået sitt. \nMåla med opphaldet er å: \n\nlære meistringsstrategiar for å dosere aktivitet og sosial deltaking\, og/eller arbeidsdeltaking\ngje deg positive opplevingar knytt til det å bruke eigen kropp aktivt\nstarte ein prosess som skal kunne vidareførast ved heimkomst\n\nHer er tilrettelagte fasilitetar med to basseng og treningssalar\, treningsfasilitetar ute og fine turløyper. \nDu får fagleg oppfølging i tilpassa fysisk aktivitet og innføring i kognitiv terapi\, som er eit nyttig verktøy for å handsame utfordringar. \nI gruppa møter du andre med liknande erfaringar\, noko som er viktig for mange.
URL:https://www.rkhr.no/opphold/multippel-sklerose-gruppe-7/
CATEGORIES:Multippel sclerose
END:VEVENT
BEGIN:VEVENT
DTSTART;TZID=Europe/Oslo:20240522T000000
DTEND;TZID=Europe/Oslo:20240612T235959
DTSTAMP:20260420T234451
CREATED:20240212T095616Z
LAST-MODIFIED:20240212T095616Z
UID:10000122-1716336000-1718236799@www.rkhr.no
SUMMARY:Parkinsongruppe
DESCRIPTION:På Haugland har vi lang erfaring med gruppeopphald for deg som har Parkinsons sjukdom. \nMåla for opphaldet er å: \n\nlære meistringsstrategiar for å dosere ut aktivitet\, sosial deltaking\, og/eller arbeidsdeltaking\ngje deg positive opplevingar knytt til å bruke eigen kropp aktivt\nstarte ein prosess som skal kunne vidareførast ved heimkomst\n\nGruppeopphalda er ein god arena for å møte andre med same diagnose. \nHer får du òg fagleg rettleiing og oppfølging\, rundt spørsmål som: Kva trening er smart når du har fått Parkinson? Korleis kan du handtere at kroppen ikkje lenger vil samarbeide? Vi kjem òg inn på kognitiv terapi\, som er eit nyttig verktøy for å sjå på korleis du tenkjer om det som skjer med deg og kroppen din. \nLes meir om gruppeopphald for deg med Parkinsons sjukdom her.
URL:https://www.rkhr.no/opphold/parkinsongruppe-9/
CATEGORIES:Parkinson
ATTACH;FMTTYPE=:
END:VEVENT
BEGIN:VEVENT
DTSTART;TZID=Europe/Oslo:20240508T000000
DTEND;TZID=Europe/Oslo:20240529T235959
DTSTAMP:20260420T234451
CREATED:20240212T104453Z
LAST-MODIFIED:20240212T104453Z
UID:10000129-1715126400-1717027199@www.rkhr.no
SUMMARY:Gruppe for vestibulære sjukdommar og Ménières
DESCRIPTION:Vi tilbyr gruppeopphald for vaksne med vestibulære sjukdommar og Ménières sjukdom. \nPå eit gruppeopphald kan du lære mykje av å møte andre i same situasjon. \nDu får innføring i kognitiv terapi og innblikk i meistringsstrategiar for å kunne leve med plagene\, samt rettleiing i tilpassa fysisk aktivitet og felles undervisning.
URL:https://www.rkhr.no/opphold/gruppe-for-vestibulaere-sjukdommar-og-menieres/
CATEGORIES:Vestibulær sjukdom
ATTACH;FMTTYPE=:
END:VEVENT
BEGIN:VEVENT
DTSTART;TZID=Europe/Oslo:20240502T000000
DTEND;TZID=Europe/Oslo:20240521T235959
DTSTAMP:20260420T234451
CREATED:20240212T095521Z
LAST-MODIFIED:20240212T095521Z
UID:10000121-1714608000-1716335999@www.rkhr.no
SUMMARY:Parkinsongruppe
DESCRIPTION:På Haugland har vi lang erfaring med gruppeopphald for deg som har Parkinsons sjukdom. \nMåla for opphaldet er å: \n\nlære meistringsstrategiar for å dosere ut aktivitet\, sosial deltaking\, og/eller arbeidsdeltaking\ngje deg positive opplevingar knytt til å bruke eigen kropp aktivt\nstarte ein prosess som skal kunne vidareførast ved heimkomst\n\nGruppeopphalda er ein god arena for å møte andre med same diagnose. \nHer får du òg fagleg rettleiing og oppfølging\, rundt spørsmål som: Kva trening er smart når du har fått Parkinson? Korleis kan du handtere at kroppen ikkje lenger vil samarbeide? Vi kjem òg inn på kognitiv terapi\, som er eit nyttig verktøy for å sjå på korleis du tenkjer om det som skjer med deg og kroppen din. \nLes meir om gruppeopphald for deg med Parkinsons sjukdom her.
URL:https://www.rkhr.no/opphold/parkinsongruppe-8/
CATEGORIES:Parkinson
ATTACH;FMTTYPE=:
END:VEVENT
BEGIN:VEVENT
DTSTART;TZID=Europe/Oslo:20240424T000000
DTEND;TZID=Europe/Oslo:20240515T235959
DTSTAMP:20260420T234451
CREATED:20230918T095421Z
LAST-MODIFIED:20230918T095421Z
UID:10000116-1713916800-1715817599@www.rkhr.no
SUMMARY:Brystkreftgruppe
DESCRIPTION:Vi har gruppeopphald til kvinner som har eller har hatt brystkreft. \nEtter at kreftbehandlinga er over\, dukkar det ofte opp nye spørsmål: Korleis er det å leve med ein kropp som har gjennomgått kreftbehandling? Kva er hensiktsmessig no\, og korleis bør du legge opp kvardagen? \nHer får du treffe andre kvinner som veit kva du snakkar om\, samtidig som du får fagleg rettleiing og oppfølging. \nMålet med gruppa er å hjelpe deg til å komme tilbake til eit aktivt liv med fysisk\, sosial og eventuelt arbeidsmessig deltaking. Du vil bli fulgt opp av eit dyktig tverrfagleg team som fokuserer på både fysisk og psykisk helse. \nVi legg vekt på å lære meistringsstrategiar gjennom tilpassa fysisk aktivitet\, undervisning og samtaler basert på kognitiv og metakognitiv terapi.
URL:https://www.rkhr.no/opphold/brystkreftgruppe-4/
CATEGORIES:Brystkreft
ATTACH;FMTTYPE=:
END:VEVENT
BEGIN:VEVENT
DTSTART;TZID=Europe/Oslo:20240410T000000
DTEND;TZID=Europe/Oslo:20240430T235959
DTSTAMP:20260420T234451
CREATED:20240212T102326Z
LAST-MODIFIED:20240212T102326Z
UID:10000124-1712707200-1714521599@www.rkhr.no
SUMMARY:Multippel sklerose-gruppe
DESCRIPTION:Vi tilbyr gruppeopphald for personar med multippel sklerose (MS)\, som har behov for å opprettehalde eller betre funksjonsnivået sitt. \nMåla med opphaldet er å: \n\nlære meistringsstrategiar for å dosere aktivitet og sosial deltaking\, og/eller arbeidsdeltaking\ngje deg positive opplevingar knytt til det å bruke eigen kropp aktivt\nstarte ein prosess som skal kunne vidareførast ved heimkomst\n\nHer er tilrettelagte fasilitetar med to basseng og treningssalar\, treningsfasilitetar ute og fine turløyper. \nDu får fagleg oppfølging i tilpassa fysisk aktivitet og innføring i kognitiv terapi\, som er eit nyttig verktøy for å handsame utfordringar. \nI gruppa møter du andre med liknande erfaringar\, noko som er viktig for mange.
URL:https://www.rkhr.no/opphold/multippel-sklerose-gruppe-6-2/
CATEGORIES:Multippel sclerose
END:VEVENT
BEGIN:VEVENT
DTSTART;TZID=Europe/Oslo:20240320T000000
DTEND;TZID=Europe/Oslo:20240410T235959
DTSTAMP:20260420T234451
CREATED:20240212T092442Z
LAST-MODIFIED:20240212T092442Z
UID:10000120-1710892800-1712793599@www.rkhr.no
SUMMARY:Parkinsongruppe
DESCRIPTION:På Haugland har vi lang erfaring med gruppeopphald for deg som har Parkinsons sjukdom. \nMåla for opphaldet er å: \n\nlære meistringsstrategiar for å dosere ut aktivitet\, sosial deltaking\, og/eller arbeidsdeltaking\ngje deg positive opplevingar knytt til å bruke eigen kropp aktivt\nstarte ein prosess som skal kunne vidareførast ved heimkomst\n\nGruppeopphalda er ein god arena for å møte andre med same diagnose. \nHer får du òg fagleg rettleiing og oppfølging\, rundt spørsmål som: Kva trening er smart når du har fått Parkinson? Korleis kan du handtere at kroppen ikkje lenger vil samarbeide? Vi kjem òg inn på kognitiv terapi\, som er eit nyttig verktøy for å sjå på korleis du tenkjer om det som skjer med deg og kroppen din. \nLes meir om gruppeopphald for deg med Parkinsons sjukdom her.
URL:https://www.rkhr.no/opphold/mot-andre-med-parkinsons-sjukdom/
CATEGORIES:Parkinson
ATTACH;FMTTYPE=:
END:VEVENT
BEGIN:VEVENT
DTSTART;TZID=Europe/Oslo:20240228T000000
DTEND;TZID=Europe/Oslo:20240320T235959
DTSTAMP:20260420T234451
CREATED:20221129T085723Z
LAST-MODIFIED:20221129T085723Z
UID:10000100-1709078400-1710979199@www.rkhr.no
SUMMARY:Vestibulær sjukdom og menières-gruppe
DESCRIPTION:Vi tilbyr gruppeopphald for vaksne med vestibulær sjukdom og menières. \nPå eit gruppeopphald kan du lære mykje av å møte andre i same situasjon. Du får innføring i kognitiv terapi og innblikk i smarte strategiar for å kunne leve med plagene dine\, samt rettleiing i tilpassa fysisk aktivitet og felles undervisning.
URL:https://www.rkhr.no/opphold/vestibulaer-sjukdom-og-menieres-gruppe-2/
CATEGORIES:Vestibulær sjukdom
ATTACH;FMTTYPE=:
END:VEVENT
BEGIN:VEVENT
DTSTART;TZID=Europe/Oslo:20240214T000000
DTEND;TZID=Europe/Oslo:20240306T235959
DTSTAMP:20260420T234451
CREATED:20220927T075227Z
LAST-MODIFIED:20220927T075227Z
UID:10000094-1707868800-1709769599@www.rkhr.no
SUMMARY:Tinnitus
DESCRIPTION:Vi har gruppeopphald for deg som er plaga med tinnitus. \nI gruppa får du rettleiing i tilpassa fysisk aktivitet og felles undervisning. Du får innføring i kognitiv terapi og innblikk i smarte strategiar for å kunne leve med plagene. \nLes meir om tilbodet her.
URL:https://www.rkhr.no/opphold/tinnitus-3-2/
CATEGORIES:Tinnitus
ATTACH;FMTTYPE=:
END:VEVENT
BEGIN:VEVENT
DTSTART;TZID=Europe/Oslo:20240207T000000
DTEND;TZID=Europe/Oslo:20240228T235959
DTSTAMP:20260420T234451
CREATED:20230918T095702Z
LAST-MODIFIED:20230918T095702Z
UID:10000117-1707264000-1709164799@www.rkhr.no
SUMMARY:Parkinsongruppe
DESCRIPTION:På Haugland har vi lang erfaring med gruppeopphald ved Parkinsons sjukdom. \nHer er ein god arena for å møte andre med same diagnose\, samstundes som du får fagleg rettleiing og oppfølging: \n\nKva trening er smart når du har fått Parkinson?\nKorleis kan du forhalde deg til det når kroppen ikkje lenger vil samarbeide?\n\nUndervisninga kjem òg inn på kognitiv terapi\, eit nyttig verktøy for å sjå på korleis du tenkjer om det som skjer med deg og kroppen din.
URL:https://www.rkhr.no/opphold/parkinsongruppe-4-2/
CATEGORIES:Parkinson
ATTACH;FMTTYPE=image/jpeg:https://www.rkhr.no/wp-content/uploads/2023/04/IMG_1547-scaled-1.webp
END:VEVENT
BEGIN:VEVENT
DTSTART;TZID=Europe/Oslo:20240117T000000
DTEND;TZID=Europe/Oslo:20240207T235959
DTSTAMP:20260420T234451
CREATED:20230918T095102Z
LAST-MODIFIED:20230918T095102Z
UID:10000115-1705449600-1707350399@www.rkhr.no
SUMMARY:Multippel sklerose-gruppe
DESCRIPTION:Vi tilbyr gruppeopphald for personar med multippel sklerose (MS)\, som har behov for å opprettehalde eller betre funksjonsnivået sitt. \nMåla med opphaldet er å: \n\nlære meistringsstrategiar for å dosere aktivitet og sosial deltaking\, og/eller arbeidsdeltaking\ngje deg positive opplevingar knytt til det å bruke eigen kropp aktivt\nstarte ein prosess som skal kunne vidareførast ved heimkomst\n\nHer er tilrettelagte fasilitetar med to basseng og treningssalar\, treningsfasilitetar ute og fine turløyper. \nDu får fagleg oppfølging i tilpassa fysisk aktivitet og innføring i kognitiv terapi\, som er eit nyttig verktøy for å handsame utfordringar. \nI gruppa møter du andre med liknande erfaringar\, noko som er viktig for mange.
URL:https://www.rkhr.no/opphold/multippel-sklerose-gruppe-5/
CATEGORIES:Multippel sclerose
ATTACH;FMTTYPE=image/jpeg:https://www.rkhr.no/wp-content/uploads/2023/04/IMG_1547-scaled-1.webp
END:VEVENT
END:VCALENDAR