BEGIN:VCALENDAR
VERSION:2.0
PRODID:-//Røde Kors Haugland Rehabiliteringssenter - ECPv6.15.20//NONSGML v1.0//EN
CALSCALE:GREGORIAN
METHOD:PUBLISH
X-ORIGINAL-URL:https://www.rkhr.no
X-WR-CALDESC:Arrangement for Røde Kors Haugland Rehabiliteringssenter
REFRESH-INTERVAL;VALUE=DURATION:PT1H
X-Robots-Tag:noindex
X-PUBLISHED-TTL:PT1H
BEGIN:VTIMEZONE
TZID:Europe/Oslo
BEGIN:DAYLIGHT
TZOFFSETFROM:+0100
TZOFFSETTO:+0200
TZNAME:CEST
DTSTART:20230326T010000
END:DAYLIGHT
BEGIN:STANDARD
TZOFFSETFROM:+0200
TZOFFSETTO:+0100
TZNAME:CET
DTSTART:20231029T010000
END:STANDARD
BEGIN:DAYLIGHT
TZOFFSETFROM:+0100
TZOFFSETTO:+0200
TZNAME:CEST
DTSTART:20240331T010000
END:DAYLIGHT
BEGIN:STANDARD
TZOFFSETFROM:+0200
TZOFFSETTO:+0100
TZNAME:CET
DTSTART:20241027T010000
END:STANDARD
BEGIN:DAYLIGHT
TZOFFSETFROM:+0100
TZOFFSETTO:+0200
TZNAME:CEST
DTSTART:20250330T010000
END:DAYLIGHT
BEGIN:STANDARD
TZOFFSETFROM:+0200
TZOFFSETTO:+0100
TZNAME:CET
DTSTART:20251026T010000
END:STANDARD
END:VTIMEZONE
BEGIN:VEVENT
DTSTART;TZID=Europe/Oslo:20240207T000000
DTEND;TZID=Europe/Oslo:20240228T235959
DTSTAMP:20260421T070910
CREATED:20230918T095702Z
LAST-MODIFIED:20230918T095702Z
UID:10000117-1707264000-1709164799@www.rkhr.no
SUMMARY:Parkinsongruppe
DESCRIPTION:På Haugland har vi lang erfaring med gruppeopphald ved Parkinsons sjukdom. \nHer er ein god arena for å møte andre med same diagnose\, samstundes som du får fagleg rettleiing og oppfølging: \n\nKva trening er smart når du har fått Parkinson?\nKorleis kan du forhalde deg til det når kroppen ikkje lenger vil samarbeide?\n\nUndervisninga kjem òg inn på kognitiv terapi\, eit nyttig verktøy for å sjå på korleis du tenkjer om det som skjer med deg og kroppen din.
URL:https://www.rkhr.no/opphold/parkinsongruppe-4-2/
CATEGORIES:Parkinson
ATTACH;FMTTYPE=image/jpeg:https://www.rkhr.no/wp-content/uploads/2023/04/IMG_1547-scaled-1.webp
END:VEVENT
BEGIN:VEVENT
DTSTART;TZID=Europe/Oslo:20240117T000000
DTEND;TZID=Europe/Oslo:20240207T235959
DTSTAMP:20260421T070910
CREATED:20230918T095102Z
LAST-MODIFIED:20230918T095102Z
UID:10000115-1705449600-1707350399@www.rkhr.no
SUMMARY:Multippel sklerose-gruppe
DESCRIPTION:Vi tilbyr gruppeopphald for personar med multippel sklerose (MS)\, som har behov for å opprettehalde eller betre funksjonsnivået sitt. \nMåla med opphaldet er å: \n\nlære meistringsstrategiar for å dosere aktivitet og sosial deltaking\, og/eller arbeidsdeltaking\ngje deg positive opplevingar knytt til det å bruke eigen kropp aktivt\nstarte ein prosess som skal kunne vidareførast ved heimkomst\n\nHer er tilrettelagte fasilitetar med to basseng og treningssalar\, treningsfasilitetar ute og fine turløyper. \nDu får fagleg oppfølging i tilpassa fysisk aktivitet og innføring i kognitiv terapi\, som er eit nyttig verktøy for å handsame utfordringar. \nI gruppa møter du andre med liknande erfaringar\, noko som er viktig for mange.
URL:https://www.rkhr.no/opphold/multippel-sklerose-gruppe-5/
CATEGORIES:Multippel sclerose
ATTACH;FMTTYPE=image/jpeg:https://www.rkhr.no/wp-content/uploads/2023/04/IMG_1547-scaled-1.webp
END:VEVENT
END:VCALENDAR