BEGIN:VCALENDAR
VERSION:2.0
PRODID:-//Røde Kors Haugland Rehabiliteringssenter - ECPv6.15.20//NONSGML v1.0//EN
CALSCALE:GREGORIAN
METHOD:PUBLISH
X-ORIGINAL-URL:https://www.rkhr.no
X-WR-CALDESC:Arrangement for Røde Kors Haugland Rehabiliteringssenter
REFRESH-INTERVAL;VALUE=DURATION:PT1H
X-Robots-Tag:noindex
X-PUBLISHED-TTL:PT1H
BEGIN:VTIMEZONE
TZID:Europe/Oslo
BEGIN:DAYLIGHT
TZOFFSETFROM:+0100
TZOFFSETTO:+0200
TZNAME:CEST
DTSTART:20250330T010000
END:DAYLIGHT
BEGIN:STANDARD
TZOFFSETFROM:+0200
TZOFFSETTO:+0100
TZNAME:CET
DTSTART:20251026T010000
END:STANDARD
BEGIN:DAYLIGHT
TZOFFSETFROM:+0100
TZOFFSETTO:+0200
TZNAME:CEST
DTSTART:20260329T010000
END:DAYLIGHT
BEGIN:STANDARD
TZOFFSETFROM:+0200
TZOFFSETTO:+0100
TZNAME:CET
DTSTART:20261025T010000
END:STANDARD
BEGIN:DAYLIGHT
TZOFFSETFROM:+0100
TZOFFSETTO:+0200
TZNAME:CEST
DTSTART:20270328T010000
END:DAYLIGHT
BEGIN:STANDARD
TZOFFSETFROM:+0200
TZOFFSETTO:+0100
TZNAME:CET
DTSTART:20271031T010000
END:STANDARD
END:VTIMEZONE
BEGIN:VEVENT
DTSTART;TZID=Europe/Oslo:20260812T000000
DTEND;TZID=Europe/Oslo:20260902T235959
DTSTAMP:20260420T103312
CREATED:20250922T082257Z
LAST-MODIFIED:20251016T192154Z
UID:10000366-1786492800-1788393599@www.rkhr.no
SUMMARY:Prostatakreft
DESCRIPTION:Vi tilbyr tre vekers gruppeopphald for menn som har gjennomgått prostatakreftbehandling. Det vil vere opptil 8 personar i gruppa\, som igjen vil vere del av ei større gruppe på 18-20 pasientar der alle er behandla for ulike formar for kreft. \nEtter kreftbehandling kan det oppstå nye spørsmål og utfordringar. Kroppen har vore gjennom mykje og kvardagen kan kjennes annleis enn før. Vi har lang erfaring med rehabilitering etter kreftsjukdom og ser at dette kan være svært nyttig for vegen vidare. \nLes meir om tilbodet her.
URL:https://www.rkhr.no/opphold/prostatakreft-2-2/
LOCATION:Røde Kors Haugland Rehabiliteringssenter\, Hauglandsvegen 308\, Flekke\, 6968
CATEGORIES:Prostatakreft
ATTACH;FMTTYPE=image/jpeg:https://www.rkhr.no/wp-content/uploads/2025/06/Bilde-2-scaled-1.webp
END:VEVENT
BEGIN:VEVENT
DTSTART;TZID=Europe/Oslo:20260819T000000
DTEND;TZID=Europe/Oslo:20260902T235959
DTSTAMP:20260420T103312
CREATED:20250922T082242Z
LAST-MODIFIED:20260226T125206Z
UID:10000388-1787097600-1788393599@www.rkhr.no
SUMMARY:Gruppeopphald: Sjeldne beinsjukdommar
DESCRIPTION:Vi har gruppeopphald for vaksne med ein sjeldan beinsjukdom. \nSom deltakar får du møte andre i same situasjon\, på same tid som du får fagleg oppfølging av tverrfagleg stab ved rehabiliteringssenteret.
URL:https://www.rkhr.no/opphold/gruppeopphald-sjeldne-beinsjukdommar/
LOCATION:Røde Kors Haugland Rehabiliteringssenter\, Hauglandsvegen 308\, Flekke\, 6968
CATEGORIES:Sjeldne beinsjukdommar
ATTACH;FMTTYPE=image/jpeg:https://www.rkhr.no/wp-content/uploads/2025/10/Haugland_Desktop.webp
END:VEVENT
BEGIN:VEVENT
DTSTART;TZID=Europe/Oslo:20260819T000000
DTEND;TZID=Europe/Oslo:20260909T235959
DTSTAMP:20260420T103312
CREATED:20250922T082257Z
LAST-MODIFIED:20251016T201438Z
UID:10000370-1787097600-1788998399@www.rkhr.no
SUMMARY:Parkinsongruppe
DESCRIPTION:På Haugland har vi lang erfaring med gruppeopphald for deg som har Parkinsons sjukdom. \nMåla for opphaldet er å: \n\nlære meistringsstrategiar for å dosere ut aktivitet\, sosial deltaking\, og/eller arbeidsdeltaking\ngje deg positive opplevingar knytt til å bruke eigen kropp aktivt\nstarte ein prosess som skal kunne vidareførast ved heimkomst\n\nGruppeopphalda er ein god arena for å møte andre med same diagnose. \nHer får du òg fagleg rettleiing og oppfølging\, rundt spørsmål som: Kva trening er smart når du har fått Parkinson? Korleis kan du handtere at kroppen ikkje lenger vil samarbeide? Vi kjem òg inn på kognitiv terapi\, som er eit nyttig verktøy for å sjå på korleis du tenkjer om det som skjer med deg og kroppen din. \nLes meir om gruppeopphald for deg med Parkinsons sjukdom her.
URL:https://www.rkhr.no/opphold/parkinsongruppe-22-2/
LOCATION:Røde Kors Haugland Rehabiliteringssenter\, Hauglandsvegen 308\, Flekke\, 6968
CATEGORIES:Parkinson
ATTACH;FMTTYPE=image/jpeg:https://www.rkhr.no/wp-content/uploads/2025/09/SolfureFoto092A6043-845x321-1.webp
END:VEVENT
BEGIN:VEVENT
DTSTART;TZID=Europe/Oslo:20260916T000000
DTEND;TZID=Europe/Oslo:20261007T235959
DTSTAMP:20260420T103312
CREATED:20250922T082242Z
LAST-MODIFIED:20260203T104155Z
UID:10000393-1789516800-1791417599@www.rkhr.no
SUMMARY:Kvinnekreftgruppe
DESCRIPTION:Vi har gruppeopphald til kvinner som har eller har hatt kreft. \nEtter at kreftbehandlinga er over\, dukkar det ofte opp nye spørsmål: Korleis er det å leve med ein kropp som har gjennomgått kreftbehandling? Kva er hensiktsmessig no\, og korleis bør du legge opp kvardagen? \nHer får du treffe andre kvinner som veit kva du snakkar om\, samtidig som du får fagleg rettleiing og oppfølging. \nMålet med gruppa er å hjelpe deg til å komme tilbake til eit aktivt liv med fysisk\, sosial og eventuelt arbeidsmessig deltaking. Du vil bli fulgt opp av eit dyktig tverrfagleg team som fokuserer på både fysisk og psykisk helse. \nVi legg vekt på å lære meistringsstrategiar gjennom tilpassa fysisk aktivitet\, undervisning og samtaler basert på kognitiv og metakognitiv terapi.
URL:https://www.rkhr.no/opphold/kvinnekreftgruppe-4-2/
LOCATION:Røde Kors Haugland Rehabiliteringssenter\, Hauglandsvegen 308\, Flekke\, 6968
CATEGORIES:Brystkreft,Kvinnekreft
ATTACH;FMTTYPE=image/jpeg:https://www.rkhr.no/wp-content/uploads/2025/09/Brystkreft-9.webp
END:VEVENT
BEGIN:VEVENT
DTSTART;TZID=Europe/Oslo:20260923T000000
DTEND;TZID=Europe/Oslo:20261014T235959
DTSTAMP:20260420T103312
CREATED:20250922T082242Z
LAST-MODIFIED:20251204T132315Z
UID:10000389-1790121600-1792022399@www.rkhr.no
SUMMARY:Cerebral parese-gruppe
DESCRIPTION:Gruppetilbod for deg som har Cerebral parese (CP)\, der målet er å fremje aktivitet og deltaking i eige liv. \nTilbodet passar for deg som har behov for å betre eller oppretthalde mest mogleg av funksjonsnivået ditt. Vi legg til rette for tilpassa fysisk aktivitet\, arbeid med meistringsstrategiar og å gje meistringsopplevingar. Senteret har tilrettelagte fasilitetar med mellom anna to basseng\, gymsal\, klatrevegg og treningssalar\, samt treningsfasilitetar ute og fine turløyper. \nVi ser at likemannshjelpa\, der ein møter andre i same situasjon\, også er av stor verdi ved eit gruppeopphald. \nLes meir om tilbodet her. 
URL:https://www.rkhr.no/opphold/cerebral-parese-gruppe-3/
LOCATION:Røde Kors Haugland Rehabiliteringssenter\, Hauglandsvegen 308\, Flekke\, 6968
CATEGORIES:Cerebral Parese
ATTACH;FMTTYPE=image/jpeg:https://www.rkhr.no/wp-content/uploads/2025/09/IMG_1220-scaled-e1681975658313.webp
END:VEVENT
BEGIN:VEVENT
DTSTART;TZID=Europe/Oslo:20260930T000000
DTEND;TZID=Europe/Oslo:20261021T235959
DTSTAMP:20260420T103312
CREATED:20250922T082242Z
LAST-MODIFIED:20251017T065717Z
UID:10000364-1790726400-1792627199@www.rkhr.no
SUMMARY:Tinnitus
DESCRIPTION:Vi har gruppeopphald for deg som er plaga med tinnitus. \nI gruppa får du rettleiing i tilpassa fysisk aktivitet og felles undervisning. Du får innføring i kognitiv terapi og innblikk i smarte strategiar for å kunne leve med plagene. \nLes meir om tilbodet her.
URL:https://www.rkhr.no/opphold/tinnitus-11-2/
LOCATION:Røde Kors Haugland Rehabiliteringssenter\, Hauglandsvegen 308\, Flekke\, 6968
CATEGORIES:Tinnitus
ATTACH;FMTTYPE=image/jpeg:https://www.rkhr.no/wp-content/uploads/2025/09/DSC00492-845x321-1.webp
END:VEVENT
BEGIN:VEVENT
DTSTART;TZID=Europe/Oslo:20260930T000000
DTEND;TZID=Europe/Oslo:20261021T235959
DTSTAMP:20260420T103312
CREATED:20250922T082242Z
LAST-MODIFIED:20251202T111029Z
UID:10000382-1790726400-1792627199@www.rkhr.no
SUMMARY:Gruppeopphald for unge vaksne
DESCRIPTION:Vi tilbyr gruppeopphald for unge vaksne frå 18-30 år. Under re-/habiliteringsopphaldet jobbar vi for å: \n\nta eit steg mot eit meir aktivt og deltakande liv\nlegge til rette for meistring og at deltakarane kan utnytte potensialet sitt\nførebygge seineffekter etter alvorleg sjukdom\n\nTilbodet er for unge vaksne med erverva eller medfødt funksjonsnedsetting. Det kan vere unge vaksne som har ei fysisk funskjonsnedsetting og/eller har vore gjennom alvorleg sjukdom. Les korleis du søker her. \nMerk: Vi har rullerande opptak. Søk så raskt som mogleg\, og seinast to månader før opphaldet.
URL:https://www.rkhr.no/opphold/gruppeopphald-for-unge-vaksne-8-2/
LOCATION:Røde Kors Haugland Rehabiliteringssenter\, Hauglandsvegen 308\, Flekke\, 6968
CATEGORIES:Unge vaksne
ATTACH;FMTTYPE=image/jpeg:https://www.rkhr.no/wp-content/uploads/2025/09/GI6A7855.webp
END:VEVENT
END:VCALENDAR