BEGIN:VCALENDAR
VERSION:2.0
PRODID:-//Røde Kors Haugland Rehabiliteringssenter - ECPv6.15.20//NONSGML v1.0//EN
CALSCALE:GREGORIAN
METHOD:PUBLISH
X-ORIGINAL-URL:https://www.rkhr.no
X-WR-CALDESC:Arrangement for Røde Kors Haugland Rehabiliteringssenter
REFRESH-INTERVAL;VALUE=DURATION:PT1H
X-Robots-Tag:noindex
X-PUBLISHED-TTL:PT1H
BEGIN:VTIMEZONE
TZID:Europe/Oslo
BEGIN:DAYLIGHT
TZOFFSETFROM:+0100
TZOFFSETTO:+0200
TZNAME:CEST
DTSTART:20240331T010000
END:DAYLIGHT
BEGIN:STANDARD
TZOFFSETFROM:+0200
TZOFFSETTO:+0100
TZNAME:CET
DTSTART:20241027T010000
END:STANDARD
BEGIN:DAYLIGHT
TZOFFSETFROM:+0100
TZOFFSETTO:+0200
TZNAME:CEST
DTSTART:20250330T010000
END:DAYLIGHT
BEGIN:STANDARD
TZOFFSETFROM:+0200
TZOFFSETTO:+0100
TZNAME:CET
DTSTART:20251026T010000
END:STANDARD
BEGIN:DAYLIGHT
TZOFFSETFROM:+0100
TZOFFSETTO:+0200
TZNAME:CEST
DTSTART:20260329T010000
END:DAYLIGHT
BEGIN:STANDARD
TZOFFSETFROM:+0200
TZOFFSETTO:+0100
TZNAME:CET
DTSTART:20261025T010000
END:STANDARD
END:VTIMEZONE
BEGIN:VEVENT
DTSTART;TZID=Europe/Oslo:20250226T000000
DTEND;TZID=Europe/Oslo:20250319T235959
DTSTAMP:20260421T063729
CREATED:20241216T132554Z
LAST-MODIFIED:20251014T121743Z
UID:10000156-1740528000-1742428799@www.rkhr.no
SUMMARY:Gruppe for vestibulære sjukdommar og Ménières
DESCRIPTION:Vi tilbyr gruppeopphald for vaksne med vestibulære sjukdommar og Ménières sjukdom. \nPå eit gruppeopphald kan du lære mykje av å møte andre i same situasjon. \nDu får innføring i kognitiv terapi og innblikk i meistringsstrategiar for å kunne leve med plagene\, samt rettleiing i tilpassa fysisk aktivitet og felles undervisning.
URL:https://www.rkhr.no/opphold/gruppe-for-vestibulaere-sjukdommar-og-menieres-3-2/
CATEGORIES:Vestibulær sjukdom
ATTACH;FMTTYPE=image/png:https://www.rkhr.no/wp-content/uploads/2025/10/White-Simple-Grand-Opening-Banner-Landscape-2-scaled.webp
END:VEVENT
BEGIN:VEVENT
DTSTART;TZID=Europe/Oslo:20250305T000000
DTEND;TZID=Europe/Oslo:20250319T235959
DTSTAMP:20260421T063729
CREATED:20250117T121311Z
LAST-MODIFIED:20250117T121311Z
UID:10000173-1741132800-1742428799@www.rkhr.no
SUMMARY:Gruppeopphald for barn og ungdom
DESCRIPTION:Våren 2025 har vi gruppeopphald for barn og ungdom frå 6-17 år. \nUnder opphaldet jobbar vi for å: \n\nta eit steg mot eit meir aktivt og deltakande liv\nlegge til rette for meistring og at barnet/ungdommen kan utnytte potensialet sitt\nførebygge seineffekter etter alvorleg sjukdom\n\nTilbodet er for barn og unge som har ei fysisk funksjonsnedsetting og/ eller har vore gjennom alvorleg sjukdom. \nLes meir om tilbodet her og korleis du søker her. \nMerk: Vi har rullerande opptak. Søk så raskt som mogleg\, og seinast to månader før opphaldet.
URL:https://www.rkhr.no/opphold/gruppeopphald-for-unge-vaksne-6/
CATEGORIES:Barn og ungdom med funksjonsnedsetting
ATTACH;FMTTYPE=image/png:https://www.rkhr.no/wp-content/uploads/2024/02/2024-01-Rode-Kors-Haugland-Rehabiliteringssenter-1200x628-1-2.webp
END:VEVENT
BEGIN:VEVENT
DTSTART;TZID=Europe/Oslo:20250312T000000
DTEND;TZID=Europe/Oslo:20250402T235959
DTSTAMP:20260421T063729
CREATED:20241216T125215Z
LAST-MODIFIED:20241216T125215Z
UID:10000146-1741737600-1743638399@www.rkhr.no
SUMMARY:Multippel sklerose-gruppe
DESCRIPTION:Vi tilbyr gruppeopphald for personar med multippel sklerose (MS)\, som har behov for å opprettehalde eller betre funksjonsnivået sitt. \nMåla med opphaldet er å: \n\nlære meistringsstrategiar for å dosere aktivitet og sosial deltaking\, og/eller arbeidsdeltaking\ngje deg positive opplevingar knytt til det å bruke eigen kropp aktivt\nstarte ein prosess som skal kunne vidareførast ved heimkomst\n\nHer er tilrettelagte fasilitetar med to basseng og treningssalar\, treningsfasilitetar ute og fine turløyper. \nDu får fagleg oppfølging i tilpassa fysisk aktivitet og innføring i kognitiv terapi\, som er eit nyttig verktøy for å handsame utfordringar. \nI gruppa møter du andre med liknande erfaringar\, noko som er viktig for mange.
URL:https://www.rkhr.no/opphold/multippel-sklerose-gruppe-10/
CATEGORIES:Multippel sclerose
ATTACH;FMTTYPE=image/jpeg:https://www.rkhr.no/wp-content/uploads/2024/08/Heli_Haugland-oversikt_4-klipp-lys.webp
END:VEVENT
END:VCALENDAR