BEGIN:VCALENDAR
VERSION:2.0
PRODID:-//Røde Kors Haugland Rehabiliteringssenter - ECPv6.15.20//NONSGML v1.0//EN
CALSCALE:GREGORIAN
METHOD:PUBLISH
X-ORIGINAL-URL:https://www.rkhr.no
X-WR-CALDESC:Arrangement for Røde Kors Haugland Rehabiliteringssenter
REFRESH-INTERVAL;VALUE=DURATION:PT1H
X-Robots-Tag:noindex
X-PUBLISHED-TTL:PT1H
BEGIN:VTIMEZONE
TZID:Europe/Oslo
BEGIN:DAYLIGHT
TZOFFSETFROM:+0100
TZOFFSETTO:+0200
TZNAME:CEST
DTSTART:20230326T010000
END:DAYLIGHT
BEGIN:STANDARD
TZOFFSETFROM:+0200
TZOFFSETTO:+0100
TZNAME:CET
DTSTART:20231029T010000
END:STANDARD
BEGIN:DAYLIGHT
TZOFFSETFROM:+0100
TZOFFSETTO:+0200
TZNAME:CEST
DTSTART:20240331T010000
END:DAYLIGHT
BEGIN:STANDARD
TZOFFSETFROM:+0200
TZOFFSETTO:+0100
TZNAME:CET
DTSTART:20241027T010000
END:STANDARD
BEGIN:DAYLIGHT
TZOFFSETFROM:+0100
TZOFFSETTO:+0200
TZNAME:CEST
DTSTART:20250330T010000
END:DAYLIGHT
BEGIN:STANDARD
TZOFFSETFROM:+0200
TZOFFSETTO:+0100
TZNAME:CET
DTSTART:20251026T010000
END:STANDARD
END:VTIMEZONE
BEGIN:VEVENT
DTSTART;TZID=Europe/Oslo:20240214T000000
DTEND;TZID=Europe/Oslo:20240306T235959
DTSTAMP:20260421T223801
CREATED:20220927T075227Z
LAST-MODIFIED:20220927T075227Z
UID:10000094-1707868800-1709769599@www.rkhr.no
SUMMARY:Tinnitus
DESCRIPTION:Vi har gruppeopphald for deg som er plaga med tinnitus. \nI gruppa får du rettleiing i tilpassa fysisk aktivitet og felles undervisning. Du får innføring i kognitiv terapi og innblikk i smarte strategiar for å kunne leve med plagene. \nLes meir om tilbodet her.
URL:https://www.rkhr.no/opphold/tinnitus-3-2/
CATEGORIES:Tinnitus
ATTACH;FMTTYPE=:
END:VEVENT
BEGIN:VEVENT
DTSTART;TZID=Europe/Oslo:20240228T000000
DTEND;TZID=Europe/Oslo:20240320T235959
DTSTAMP:20260421T223801
CREATED:20221129T085723Z
LAST-MODIFIED:20221129T085723Z
UID:10000100-1709078400-1710979199@www.rkhr.no
SUMMARY:Vestibulær sjukdom og menières-gruppe
DESCRIPTION:Vi tilbyr gruppeopphald for vaksne med vestibulær sjukdom og menières. \nPå eit gruppeopphald kan du lære mykje av å møte andre i same situasjon. Du får innføring i kognitiv terapi og innblikk i smarte strategiar for å kunne leve med plagene dine\, samt rettleiing i tilpassa fysisk aktivitet og felles undervisning.
URL:https://www.rkhr.no/opphold/vestibulaer-sjukdom-og-menieres-gruppe-2/
CATEGORIES:Vestibulær sjukdom
ATTACH;FMTTYPE=:
END:VEVENT
END:VCALENDAR